BEGIN:VCALENDAR
VERSION:2.0
PRODID:-//Tukios.com/
BEGIN:VEVENT
UID:05ef0c55-6f3d-4580-9463-e8a7d44d0c07@www.maddoxcartermemorialhome.com
DTSTAMP:20260423T002319Z
DTSTART:20260424T210000Z
DTEND:20260425T000000Z
SUMMARY:Visitation
DESCRIPTION:
URL:https://www.maddoxcartermemorialhome.com/obituaries/mr-dustin-scarbro
LOCATION:Maddox Memorial Home 265 Highway 211 NW  Winder GA 30680
GEO:33.9984642;-83.7414751
END:VEVENT
END:VCALENDAR