BEGIN:VCALENDAR
VERSION:2.0
PRODID:-//Tukios.com/
BEGIN:VEVENT
UID:cfbe9fd5-1d27-467b-a1f5-9a3c4ed5cd0d@www.maddoxcartermemorialhome.com
DTSTAMP:20260423T003024Z
DTSTART:20260425T180000Z
DTEND:20260425T190000Z
SUMMARY:Funeral Service
DESCRIPTION:
URL:https://www.maddoxcartermemorialhome.com/obituaries/mr-dustin-scarbro
LOCATION:Maddox Memorial Home 265 Highway 211 NW  Winder GA 30680
GEO:33.9984642;-83.7414751
END:VEVENT
END:VCALENDAR