BEGIN:VCALENDAR
VERSION:2.0
PRODID:-//Tukios.com/
BEGIN:VEVENT
UID:0bcb3a1c-41df-442a-9b8a-a2691e7a15eb@www.maddoxcartermemorialhome.com
DTSTAMP:20260425T191737Z
DTSTART:20260427T160000Z
DTEND:20260427T180000Z
SUMMARY:Visitation
DESCRIPTION:
URL:https://www.maddoxcartermemorialhome.com/obituaries/mrs-peggy-haley
LOCATION:Maddox Memorial Home 265 Highway 211 NW  Winder GA 30680
GEO:33.9984642;-83.7414751
END:VEVENT
END:VCALENDAR