BEGIN:VCALENDAR
VERSION:2.0
PRODID:-//Tukios.com/
BEGIN:VEVENT
UID:95796ccf-0ab2-49a2-bcb5-0681e5efdf76@www.maddoxcartermemorialhome.com
DTSTAMP:20260425T191120Z
DTSTART:20260427T180000Z
DTEND:20260427T190000Z
SUMMARY:Funeral Service
DESCRIPTION:
URL:https://www.maddoxcartermemorialhome.com/obituaries/mrs-peggy-haley
LOCATION:Maddox Memorial Home 265 Highway 211 NW  Winder GA 30680
GEO:33.9984642;-83.7414751
END:VEVENT
END:VCALENDAR