BEGIN:VCALENDAR
VERSION:2.0
PRODID:-//Tukios.com/
BEGIN:VEVENT
UID:f6931ee9-9718-4448-9252-851b408807c1@www.maddoxcartermemorialhome.com
DTSTAMP:20260425T191303Z
DTSTART:20260427
SUMMARY:Burial
DESCRIPTION:
URL:https://www.maddoxcartermemorialhome.com/obituaries/mrs-peggy-haley
LOCATION:  East Candler Street  Winder GA 30680
GEO:33.9916301;-83.7185571
END:VEVENT
END:VCALENDAR