BEGIN:VCALENDAR
VERSION:2.0
PRODID:-//Tukios.com/
BEGIN:VEVENT
UID:226e184a-ce5d-4ced-9833-000a7a7b2dc4@www.maddoxcartermemorialhome.com
DTSTAMP:20260424T194844Z
DTSTART:20260517T170000Z
DTEND:20260517T180000Z
SUMMARY:Celebration of Life
DESCRIPTION:
URL:https://www.maddoxcartermemorialhome.com/obituaries/ms-melinda-johnson
LOCATION:Winder First United Methodist Church 280 North Broad Street  
	Winder GA 30680
GEO:34.0043419;-83.708317
END:VEVENT
END:VCALENDAR